Workbook

Sheet timetable
B1: Fri | C1: Sat | D1: Sun | E1: Mon | F1: Tue | G1: Wed | H1: Thu | I1: Fri | J1: Sat | K1: Sun | L1: Mon | M1: Tue | N1: Wed | O1: Thu | P1: Fri | Q1: Sat | R1: Sun
B2: 42097 | C2: 42098 | D2: 42099 | E2: 42100 | F2: 42101 | G2: 42102 | H2: 42103 | I2: 42104 | J2: 42105 | K2: 42106 | L2: 42107 | M2: 42108 | N2: 42109 | O2: 42110 | P2: 42111 | Q2: 42112 | R2: 42113
A3: 0.25 | C3: 6:15 Milan
A4: 0.29166667 | J4: VY6737 (6:55 FCO Rome)
A5: 0.33333333 | C5: Deposit luggage at StarHotel Anderson | J5: 8:15 DBV | M5: Day trip to Trogir - Krka | R5: 7:35 BKK
A6: 0.375 | C6: Train to Varenna-Esino | D6: Milan duomo | H6: Colosseum, | I6: Vatican Museum,
A7: 0.41666667 | D7: ห้างตรงข้าม duomo | H7: Arch of Constantine, | L7: Bus to Split | N7: Bus to Plitvice 10:15 - 14:45 | O7: Full day Plitvice | P7: Dolac market
A8: 0.45833333 | C8: Boat to Bellagio | H8: Palatine Hill, | P8: Lotrscak Tower
A9: 0.5 | F9: duomo | H9: Roman Forum | P9: St. Mark cathedral* | Q9: QR218 (12:55)
A10: 0.54166667 | E10: Train To Pisa 12:30 to 13:55 | F10: Companile | G10: Train to Rome (13:04 - 14:35) | H10: Lunch: | I10: St. Peter's Basilica, | P10: Tkalciceva
A11: 0.58333333 | C11: Boat to Lenno | E11: Pisa | F11: Piazza della Signoria | H11: Palazzo Valentini, | I11: Lunch: Arlu | P11: Cathedral of the Assumption (Cathedral of Zagreb)
A12: 0.625 | D12: train to Manarola 12:10 - 15:35 | F12: สะพาน Vecchio | G12: check-in | H12: Altar of the Fatherland, Piazza Venezia ( II Vittoriano) | I12: Castel Sant' Angelo, | P12: Mirogoj Cemetery
A13: 0.66666667 | G13: Spanish step | H13: Marcello Theater, | I13: Trevi fountain | L13: Diocletian's Palace | P13: Lower town (Donji grad)
A14: 0.70833333 | C14: Boat back to Varenna | E14: Train To Florence | F14: Piazzale Michelangelo | G14: Piazza del popolo (should go after 5pm) | H14: Isola Tiberina | I14: Patheon | L14: The Riva (Split's seafront promenade) | O14: Bus to Zagreb 16:45 - 19:00 | P14: Vincek - Ilica
A15: 0.75 | H15: San Crisogono, Piazza Sidney Sonnino | I15: Piazza Navona | L15: Trg Brace Radic (Fruit square) | P15: ถ้ามีเวลาเหลือก็ไปสวน Zrinjevac
A16: 0.79166667 | C16: Back to Milan | F16: Opera (opt) | G16: Villa Boghese (จุดชมวิว) | H16: St Maria in Trastevere Basilica, | L16: ชมวิวที่ ACI marina / marjan hill | Q16: 19:15 Doha
A17: 0.83333333 | H17: Dinner: Ristorante San Cosimato | Q17: QR822 (20:45 Doha)
A18: 0.875 | B18: QR833 (20:40 BKK)
A19: 0.91666667
A20: 0.95833333
A21: 1 | B21: 23:30 Doha
B22: QR123 (00:50 Doha)
A23: Stay | C23: Milan | D23: Manarola | E23: Florence | F23: Florence | G23: Rome | H23: Rome | I23: Rome | J23: DBV | K23: DBV | L23: Split | M23: Split | N23: Plitvice | O23: Zagreb | P23: Zagreb

Sheet Info
A1: Italy | G1: Croatia
A2: http://pantip.com/topic/31683447 | B2: Coffee blend | C2: Milan | G2: http://pantip.com/topic/32281092 | H2: Plitvice
A3: http://pantip.com/topic/31766810 | B3: Coffee blend | C3: florence | G3: http://pantip.com/topic/31720078 | H3: Dubrovnik
A4: http://pantip.com/topic/30201953 | B4: ช้างน้อย | C4: มิลาน | G4: http://pantip.com/topic/31742413 | H4: Zadar
A5: http://2g.pantip.com/cafe/blueplanet/topic/E10634985/E10634985.html | B5: IndyLand | C5: Cinque Terre | G5: http://pantip.com/topic/32346791 | H5: Split
G6: http://pantip.com/topic/30340498 | H6: Zagreb
A7: http://helloneung.blogspot.com/2014/04/1-italy.html | C7: prep | G7: http://pantip.com/topic/30365736 | H7: Dubrovnik
G8: http://board.trekkingthai.com/board/show.php?forum_id=2&topic_no=231464&topic_id=234518 | H8: 10 days
G9: http://pantip.com/topic/32184846 | H9: Hvar
G10: http://topicstock.pantip.com/blueplanet/topicstock/2011/05/E10558446/E10558446.html | H10: 8 days
G11: http://www.lonelyplanet.com/croatia/tours/history-culture/croatia-adventure-zagreb-dubrovnik | H11: 7 days
G12: http://pantip.com/topic/30907618 | H12: Plitvice
A13: http://www.italylogue.com/planning-a-trip/how-to-get-from-the-cinque-terre-to-milan.html | C13: Cinque Terre
A14: https://cart.italiarail.com/tickets/TrainSchedules.aspx?Aff=BNUS&pd_id=4479 | C14: Train booking
G15: http://topicstock.pantip.com/blueplanet/topicstock/2012/11/E12966310/E12966310.html | I15: Slovenia - plitvice
G16: http://pantip.com/topic/31079580 | I16: Slovenia
G17: http://topicstock.pantip.com/blueplanet/topicstock/2012/11/E12889307/E12889307.html | I17: Slovenia
A18: http://topicstock.pantip.com/blueplanet/topicstock/2010/10/E9852724/E9852724.html | C18: vatican
A19: http://topicstock.pantip.com/blueplanet/topicstock/2012/03/E11854466/E11854466.html | G19: http://pantip.com/topic/30907618 | H19: Plitvice
G20: http://pantip.com/topic/31935136 | H20: Split, Krka
G23: http://www.vipnet.hr/tourist-offer/en/sim-card-tablet | H23: Sim card
G25: http://www.balkanviator.com/en/ | H25: bus

Sheet Hotel (real)
A1: Date | B1: City | C1: Hotel | D1: Address | E1: Tel | F1: Email | G1: Booking channel | H1: Price (Euro) | I1: Condition | J1: Breakfast | K1: Payment
A2: 42098 | B2: Milan | C2: Star Hotel Anderson | D2: Piazza Luigi di Savoia, 20, 20124 Milano | E2: +39 02 6690141 | F2: anderson.mi@starhotels.it | G2: Booking.com | H2: =109.25+10 -> 119.25 | I2: free cancellation by 2 Apr 15 | J2: Yes
A3: 42099 | B3: Manarola | C3: Hotel Ca D'Andrean | D3: Via A. Discocolo, 101, 19010 Manarola, Italy | E3: +39 0187 920040 | F3: info@cadandrean.it | G3: Booking.com | H3: 144 | I3: free cancellation by 31 Mar 15 | J3: Yes
A4: 42100 | B4: Florence | C4: B&B Residenza le Fonticine | D4: Via Nazionale 17 nero/black Centro Storico Firenze, 50123 | E4: +390552741141 | G4: Booking.com | H4: 190 | I4: free cancellation by 31 Mar 15 | J4: Yes
A5: 42101 | B5: Florence | F5: info@residenzalefonticine.it
A6: 42102 | B6: Rome | C6: Vatican Monnalisa | D6: Via Otranto 12 Vaticano Prati Roma, 00192 | E6: +390637516053 | F6: info@vaticanmonnalisa.com | G6: Booking.com | H6: 267 | I6: Non cancellable | J6: Yes
A7: 42103 | B7: Rome
A8: 42104 | B8: Rome
A9: 42105 | B9: Dubrovnik | C9: Apartments Zoro | D9: Za Rokom 11, Old Town, 20000 Dubrovnik, Croatia | E9: +385915455147 | G9: Booking.com | H9: 160 | I9: free cancellation by 3 April 15 | J9: No | K9: Cash only
A10: 42106 | B10: Dubrovnik
A11: 42107 | B11: Split | C11: Luxury Rooms Lucija and Luka | D11: Narodni trg 10 Split, 21000 | E11: +385917526027 | F11: andrijabamba@yahoo.com | G11: Booking.com | H11: 198 | I11: free cancellation by 5 April 15 | J11: No | K11: Cash only
A12: 42108 | B12: Split
A13: 42109 | B13: Plitvice | C13: Hotel Jezero | D13: Plitvička Jezera, 53231 | E13: +38553751832 | F13: info@np-plitvicka-jezera.hr | G13: Booking.com | H13: 86 | I13: free cancellation by 12 April 15 | J13: Yes
A14: 42110 | B14: Zagreb | C14: Rooms Zagreb 17 | D14: Radićeva 22 Zagreb, 10000 | E14: +385911700170 | G14: Booking.com | H14: 140 | I14: free cancellation by 12 April 15 | J14: No | K14: Cash only
A15: 42111 | B15: Zagreb | F15: info@sobezagreb17.com
H16: =SUM(H2:H15) -> 1304.25

Sheet Milan
A1: Milan
A2: Day1: 4 April 15
A3: 0.26041667 | B3: landed | C3: นั่งรถไฟจากสนามบินมายัง Milano Centrale นั่งสาย Malpensa Aeroporto - Milano Centrale ราคา 12 Euro มีทุกชม. (ควรให้ทันรอบ 6:43 ถ้าไม่ทัน ไปขึ้นรถบัส ออกทุก 20 นาที มีขายตั๋วทั้งข้างในและนอกสนามบิน (ออกมาเลี้ยวซ้าย)) | D3: 12
A4: 0.33333333 | B4: Drop bag | C4: StarHotel Anderson
C5: Our hotel is just 30m from the Central train station, in front of the Malpensa Express's Air Terminal and there are bus services to Linate aiport and Orio al Serio (Bergamo's Airport).
A7: 0.35416667 | B7: lake como | C7: Go to Milano Centrale
B8: 0.38888889 | C8: **Buy ticket to Varenna-Esino มีทุกชั่วโมง ใช้เวลา 1 ชั่วโมง, ซื้อตั๋วขากลับไว้เลย | D8: 6.7
C9: ***Buy regional train ticket from La Spezia Centrale to Manarola | D9: 6.7
C10: 15:27 / 15:56 (for 5 April)
C12: ***Buy sim card at TIM | D12: 20
B13: 0.43263889 | C13: ถึงแล้วเดินไปซื้อตั๋วเรือ
B14: 0.47430556 | C14: นั่งเรือ Varenna - Bellagio มีทุกครึ่งชั่วโมง ใช้เวลาประมาณ 15 นาที | D14: 4.6
B15: 0.48263889 | C15: Bellagio > เดินเล่น > กินข้าว
B16: 0.5625 | C16: Bellagio to Lenno (13:30, 14:40) ใช้เวลา 30 นาที | D16: 4.6
B17: 0.70833333 | C17: Lenno to Varenna ใช้เวลา 45 นาที | D17: 4.6
B18: 0.77569444 | C18: Train to Milan | D18: 6.7
A22: Day2: 5 April 15
C24: จากสถานี Centrale นั่งสายสีเหลืองไปอีก 4 สถานี เพื่อไปยัง Duomo
C25: แรกจะซื้อตั๋วรถไฟจากเครื่องขายตั๋ว แต่มีคนยิปซีเดินไปมาแถวนั้น เริ่มเห็นแววไม่ปลอดภัย ก็เลยไปซื้อตั๋วจากร้าน Tabacchi (ร้านขายบุหรี่) แทน ซึ่งมันไม่ได้ขายแต่บุหรี่ แต่จะขายพวกตั๋วรถต่างๆด้วย ค่ารถไฟ metro ในมิลาน 1.5 ยูโร นั่งได้ 90 นาที ถ้าซื้อตั๋ววันก็ราคา 4.5 ยูโรครับ | D25: =1.5*2 -> 3
A26: 0.35416667 | C26: Duomo
C27: ค่าเข้าฟรี ขึ้นลิฟท์ 7 Euro (ที่ขายตั๋วกับลิฟท์อยู่คนละด้าน) | D27: 7
C29: Galleria Vittorio Emanuele II
C30: เป็นห้างที่สวยมาก
A32: 0.47916667 | C32: Check out
A33: 0.50694444 | C33: Train to La Spezia 12:10 - 15:21 | D33: Booked
C36: Transport | D36: =SUM(D13:D25,D3:D10) -> 48.9
C37: Ticket | D37: =D12+D27 -> 27

Sheet Manarola
A1: Manarola
A2: 42099
A3: 0.63958333 | B3: Arrive La Spezia
B4: ขึ้นรถไฟไป Manarola เที่ยว 15:27 | C4: 2.1
B5: จากสถานีรถไฟ เดิน 500 เมตร ถึงโรงแรม
B6: There is a tunnel to reach manarola from train station. At the end of the tunnel, you go on the right and after 5 minutes, you find the hotel.
B9: เมือง Manalora วิวที่สวยที่สุดเราว่าอยู่ตรงมุมที่มองจากสุสานบนเขานะคะ
B10: อย่าลืมขึ้นไป เก็บภาพช่วงแสงเย็นค่ะ
B11: ส่วนร้านอาหารที่ห้ามพลาดขอแนะนำ http://www.trattoriabilly.com/
B12: อาหารอร่อย วิวดี ราคาไม่เว่อค่ะ
B13: แนะนำให้จองก่อนนะคะ โดยเฉพาะถ้าอยากนั่งระเบียง
B14: ลองเช็คเวลาพระอาทิตย์ตกช่วงที่ไปแล้วโทรไปจองล่วงหน้าซัก2วันค่ะ
A16: 42100
A18: 0.375 | B18: walk and walk
A22: 0.51875 | B22: Manarola train 12:27-12:40
A23: 0.58055556 | B23: La Spezia Centrale (time: 13:56); Arrival: Pisa Centrale (time: 14:51) | C23: Booked
B25: Pisa
B26: Leaning Tower 9 a.m. - 9 p.m. | C26: 18
B28: Pisa Centrale to Firenze SMN (16:32, 16:54)
B30: Transport | C30: =SUM(C28,C22,C4) -> 2.1
B31: Ticket | C31: =C26 -> 18

Sheet Florence
A1: Florence
A2: Day 1: 6 Apr | B2: https://goo.gl/maps/aw9Oa
A3: 0.71319444 | B3: arrive
B4: walk to B&B
B5: เดินเล่น Duomo / Vecchio
B6: Dinner
A7: wine bar | B7: Spumantino Verrazzano
A8: day 2 | B8: https://goo.gl/maps/u7Xa9
D9: Fee
B10: Duomo | C10: Open from 10am - 5pm Thursdays: 10am - 4/5pm (depends on season) Saturdays: 10am - 4:45pm Sundays and religious holidays: 1:30 - 4:45pm Holy week - Holy Thursday: 12:30 - 4:30pm Good Friday: 10:30am - 4:30pm Holy Saturday: 11am - 4:45pm | D10: 10
B11: Companile | C11: ไม่ต้องเดินขึ้นโดม ไปขึ้นหอนาฬิกา Campanile แทน หอระฆัง กัมปานีเล ทางด้านข้างของดูโอโม มีบันได 414 ขั้นพาขึ้นไปชมยอดโดมกับหลังคาของเมืองฟลอเรนซ์ ค่าขึ้น 6 ยูโรครับ | D11: 6
B12: Piazza della Signoria
B13: สะพาน Vecchio
B14: จัตุรัส Piazzale Michelangelo (ชมวิวเมือง) นั่งรถเมล์ไป | C14: สำหรับการขึ้นรถเมล์ไปยัง Piazzale Michelangelo นั้นให้เริ่มจากสถานีรถไฟ Firenze S.M.N. (สถานีรถไฟกลางเมืองฟลอเรนส์) โดยนั่งสาย 12 หรือ 13 ก็ได้ครับ ราคาค่ารถบัสที่ Florence ก็แสนจะถูก ราคาเพียง 1.20 € เท่านั้น (ซื้อที่ร้านบุหรี่ข้างสถานีรถไฟก่อนขึ้นรถก็ได้นะครับ เพราะถ้าไปจ่ายบนรถจะโดนค่ารถเป็น 2 €) | D14: =1.2*2 -> 2.4
B15: The Basilica of San Miniato al Monte | C15: ถ้ามีเวลาเหลือ เพราะว่าต้องนั่งรถเมล์ออกไปนอกเมือง | D15: =1.2*2 -> 2.4
B16: https://goo.gl/maps/90XTB | C16: Sundays: 8-19, Weekdays in winter: 7.00-13.00; 15.30-19.00. In Summer: 7.00-sunset. Between 7-8am, only side door is open. | D16: 0
A17: Opera | B17: http://www.concertoclassico.info/
A18: Day 3 | B18: เดินเล่น เก็บตก
A19: 0.41666667 | B19: Cathedral and Pharmacy of Santa Maria Novella | C19: From Monday till Sunday 9:00am 8:00 pm Free entry. | D19: 0
A20: 0.45833333 | B20: Mercato Centrale (2nd flr - food)
A21: 0.5 | B21: Check out
A22: 0.54444444 | B22: Firenze S. M. Novella (time: 13:04); Arrival: Roma Termini (time: 14:35) | D22: Booked
C24: Transport | D24: =SUM(D14:D15) -> 4.8
C25: Ticket | D25: =SUM(D10:D11) -> 16

Sheet Rome
A1: Rome
A3: 42102 | B3: https://goo.gl/maps/nvMlh
A4: Firenze S. M. Novella (time: 13:04); Arrival: Roma Termini (time: 14:35)
A6: 0.60763889 | B6: Arrive Roma Termini
B7: ซื้อ Roma Pass | D7: 36
A8: 0.625 | B8: Check-in | C8: Take metro A direction Battistini (get off at Ottaviano - San Pietro). Exit at Viale Giulio Cesare, via Otranto is the first street on the right, we are at No.12 on the Feltrinelli bookshop | G8: ถ้ามีเวลาค่อยไป
A9: 0.66666667 | G9: Basilica of St. John Lateran, Piazza di San Giovanni in Laterano, 4, Roma, Italy
B10: Spanish step | D10: 0 | G10: The Papal Basilica of Santa Maria Maggiore, Piazza di S. Maria Maggiore, 42, 00100 Roma RM, Italy
B11: Santa Maria del Popolo (อยู่ที่ Piazza del popolo) | C11: 7:00-12:00, 16:00-19:00 | D11: 0 | G11: Santa Maria della Vittoria Church, Via 20 Settembre, 17, 00187 Roma, Italy
B12: Piazza del popolo (should go after 5pm) | C12: weekdays from 7.15 to 12.30 / 16-19 Friday-Saturday: 7.30 to 19 | D12: 0
B13: Villa Boghese ขึ้นไปเป็นจุดชมวิว ไม่ต้องเข้า museum | D13: 0
A14: 42103 | B14: https://goo.gl/maps/46js6
B16: Colosseum, | C16: Opening hours Open 8.30am until one hour before sunset, every day. Ticket prices €12 (including a €3 exhibition charge) standard, €7.50 reduced rate. | D16: 0 | E16: use Roma Pass
B17: Arch of Constantine, | D17: 0
B18: Palatine Hill, | D18: 0
B19: Roman Forum | D19: 0
B20: Lunch: Arlu | C20: หรือลองดูร้านอื่นๆบนถนน Borgo Pio
B21: Palazzo Valentini,
B22: Altar of the Fatherland, Piazza Venezia ( II Vittoriano) | D22: 0
B23: Marcello Theater, | C23: ดูได้แต่ข้างนอก | D23: 0
B24: Isola Tiberina | C24: เกาะกลางแม่น้ำ
B25: San Crisogono, Piazza Sidney Sonnino | C25: 7.30-11.30am and 4-7pm | D25: 0
B26: St Maria in Trastevere Basilica, | C26: Daily 7:30am-8pm | D26: 0
B27: Dinner: Ristorante San Cosimato
B28: or La Fraschetta
A30: 42104 | B30: https://goo.gl/maps/8MubR
B32: Vatican Museum, | C32: book ticket in advance + should visit in the afternoon
B33: St. Peter's Basilica, | C33: 7:00 - 18:30
B34: Castel Sant' Angelo, | C34: 9:00 - 19:00, admission 10.5
B35: Trevi fountain | D35: 0
B36: Patheon | C36: Open 9:00 to 18:30 Monday to Saturday, closes 13:00 Sundays | D36: 0
B37: Piazza Navona | D37: 0
A38: 42105 | B38: Taxi | D38: 30
B39: TRAIN
B40: Leonardo Express Train:
B41: From Termini Station every half hour (first departure at 5.35 am - last departure 10.35 pm); The Leonardo Express leaves from and arrives at platform 25. | D41: 14
A42: 0.28819444 | B42: Rome FCO (depart)
C44: Transport | D44: =D38/2 -> 15
C45: Tickets | D45: =D7 -> 36
A46: Termini to Hotel
...

Sheet Dubrovnik
A1: Dubrovnik
A2: 42105
A3: 0.34375 | B3: Arrive
B4: After picking up your luggage step outside of the arrival terminal and the Airport Shuttle Bus will be parked alongside the building. It leaves the airport after most or all passengers have cleared the arrivals area. Tickets are bought on the bus, the cost of the airport transfer is 35 Kuna. After leaving Dubrovnik Airport it first stops at Pile Gate in front of Old Town Dubrovnik, continuing afterwards to the Main Bus Station in Gruž Port. | D4: =35*0.132 -> 4.62
B5: Get off at Pile Gate
A6: 0.41666667 | B6: Check-in Apartments Zoro
B7: มุมถ่ายภาพน่าสนใจ นอกเหนือจากมุมพาโนรามาเหนือเมืองและมุมจากบนกำแพงเมืองแล้ว ยังมีอีกหนึ่งมุมที่ไม่ควรพลาด คือ จากริมหาดด้านนอกตัวกำแพงเมืองไปทางฝั่งซ้าย (หันหน้าออกทะเล) นอกจากจะได้ภาพสวยๆแล้ว ยังได้เอาเท้าจุ่มทะเลอาดรีอาติกอีกด้วย
B8: ตั๋วรถเมล์ในเมืองราคา 12 คูนา (60 กว่าบาท) สามารถซื้อได้ที่ kiosk แต่ถ้าซื้อบนรถราคาจะสูงกว่า คือ 15 คูนา (เกือบ 80 บาท) ใช้ได้ 1 ชั่วโมง Dubrovnik Card ถือว่าเป็นตัวเลือกที่ประหยัด หนึ่งใบจะเข้าพิพิธภัณฑ์ได้ 5 แห่ง แกลลอรี่ 2 แห่ง ทัวร์เดินบนกำแพง และยังสามารถใช้บริการรถเมล์ได้ด้วย บัตรนี้มีทั้งแบบ 24 ชั่วโมง 3 วัน และหนึ่งสัปดาห์ ราคาก็แตกต่างกันไป แนะนำให้ซึ้อออนไลน์เพราะราคาจะถูกกว่า 10% ราคาเริ่มต้นอยู่ที่ราว 600 บาท
H10: Food
B11: Lunch: Pizzeria Domenica, Za Rokom 2, Dubrovnik, Croatia | H11: Lobster
B12: walking around old town | H12: Oyster
B13: ancient wall | C13: 1 April - 31 May: 8.00 am - 6.30 pm | D13: 100 | E13: HRK | H13: Truffle
B14: Dinner: Dalmatino Konoba, Miha Pracata 6, Dubrovnik 20000, Croatia | H14: Black risotto
H15: Grilled squid
A16: 42106 | H16: Buchara (Mussels in tomato sauce)
B17: cable car | D17: =87*0.132 -> 11.484 | E17: HRK
B19: Lunch: Konoba Pizzeria 'Peline'
B20: Dubrovnik cultural historical museum | C20: 9.00 am - 6.00 pm, every day | D20: 80 | E20: HRK
B21: Dinner: Above 5 Restaurant (book in advance)
A23: 42107
B25: Bus Leave dubrovnik | D25: มีรอบ 8:00 กับ 11:00 เดินทาง 4 ชั่วโมง
B27: Ticket
B28: travel | D28: =D4 -> 4.62

Sheet Split
A1: Split
A2: 42107 | C2: Fee
A3: 0.61111111 | B3: Arrive Split
A4: Hotel | B4: Luxury Rooms Lucija and Luka
B5: Diocletian's Palace | C5: 0
B6: The Riva (Split's seafront promenade) | C6: 0
B7: Trg Brace Radic (Fruit square) | C7: 0
B8: ชมวิวที่ ACI marina / marjan hill | C8: 0
A10: 42108 | B10: day trip to Trogir and Krka | C10: 70
B11: http://www.split-excursions.com/excursions/day-trips-to-national-parks-from-split/krka-waterfalls-sibenik-small-group-tour/#ITINERARY
A13: 42109
A14: 0.42708333 | B14: Leave to Plitvice
B16: http://www.buscroatia.com/split-plitvice/
B18: Ticket | C18: =SUM(C5:C17) -> 70

Sheet Plitvice
A1: Plitvice
A2: 42109 | C2: HRK | E2: http://www.np-plitvicka-jezera.hr/en/plan-your-visit/
A3: 0.61458333 | B3: arrive | E3: Ticket price | G3: 0.132
B4: Check-in Hotel Jezero | E4: 1 day | F4: 110 | G4: =F4*G3 -> 14.52
B5: Use entrance 2 แต่ถ้าปิด ก็ไปนั่งรถไฟที่ entrance1 | C5: =G4 -> 14.52 | E5: 2 days | F5: 180 | G5: =F5*G3 -> 23.76
E6: ก่อนเดินทางเช็คเรื่องประตูที่เปิด และเวลาเปิดปิดอีกที
A7: 42110 | E7: นอนโรงแรมในอุทยาน เสียค่าเข้า 1 วัน อยู่ได้สองวัน
B8: All day
B9: สิ่งที่ต้องเตรียมไว้ในเป้และไม่ควรพลาดสำหรับการเดินป่า น้ำดื่มขวดเล็กหรือกลางไว้จิบระหว่างเดิน, แจ็คเกทหรือผ้าพันคอสำหรับใครที่มาช่วงหน้าหนาวหรือใบไม้ผลิ เพราะอากาศในอุทยานจะเย็นลงอีก 2-3 องศา , หมวก, ครีมกันแดดทามาเลยค่ะใครเดินป่าหน้าร้อน, ร้องเท้าแตะ(ใส่ขากลับหรือตอนอากาศเริ่มร้อน), ยาหม่อง เผื่อใครความดันต่ำอาจจะเวียนหัวได้, แซนวิช ห่อมาเลยค่ะ ใครที่ต้องเดินเส้นทางแบบ 3-4 ชั่วโมงขึ้นไป, ใส่ร้องเท้าหุ้มส้นหรือรองผ้าใบ แฟชั่นส้นสูงเก็บไว้ที่บ้านนะค่ะ และที่ขาดไม่ได้เลยคือกล้องถ่ายรูป
B11: อาหาร: ไก่ย่าง / ปลาเทราท์
A14: 0.69791667 | B14: Catch bus to zagreb
B16: Ticket | C16: =SUM(C4:C15) -> 14.52

Sheet Zagreb
A1: Zagreb
A3: 42110
A4: 0.79166667 | B4: จาก bus station นั่งรถราง เบอร์ 6 ไป 5 ป้าย ถึงจัตุรัส แล้วเดินเลี้ยวเข้าไปถนนที่มีตึกขาวๆ (ป้าย Allianz กับ Ericson ถ้ามันยังอยู่อะนะ) 300 เมตร ตึกอยู่ขวามือ เลขที่ 22 From the Bus station to the us, you can take the tram No. 6 to Črnomerec direction. The tram station is located in front of the Bus station. You should get off on the fifth station or tram stop named Trg Bana J. Jelačića- main square. Then you must go to the Radićeva street No.22
B5: ปัจจุบันรถรางแบ่งเป็น Day trams (วิ่งตั้งแต่ ตีสี่ ถึง เที่ยงคืน) และ Night trams (วิ่งตั้งแต่ เที่ยงคืน ถึง ตีสี่) Day trams มีรถรางวิ่งทุก 5-22 นาที แล้วแต่ว่าตอนนั้นเป็นชั่วโมงเร่งด่วนหรือไม่ มีผู้คนพลุกพล่านย่านนั้นเยอะรึเปล่า ขณะที่ Night trams วิ่งทุก 30 นาที สำหรับราคาค่าตั๋วเป็นดังต่อไปนี้ คือ • 8HRK ถ้าซื้อจากtisakหรือแผงลอยใกล้ๆบริเวณสถานีรถไฟ ป้ายรถเมล์(16HRK สำหรับการขึ้น night tram) • 10HRK ถ้าซื้อจากคนขับรถรางโดยตรง (20HRK สำหรับการขึ้น night tram) • 25HRK สำหรับราคาตั๋ววัน ที่เหมาะกับนักท่องเที่ยวที่ต้องการเดินทางหลายต่อหลายครั้งภายในตัวเมือง สำหรับตั๋วรถรางใช้ครั้งเดียว ไม่ว่าเราจะซื้อจากแม่ค้าตามแผงลอย หรือ จากคนขับรถ เราสามารถใช้เดินทางได้ในหนึ่งชั่วโมงครึ่ง แต่เราต้องเอาตั๋วเราไป validate โดยเอาตั๋วไปแสตมป์ในกล่องสีเหลืองที่จะเห็นได้ในรถรางให้เร็วที่สุด ไม่งั้นอาจถูกจับปรับได้
A6: 42111 | B6: Upper town | C6: https://goo.gl/maps/m6j6W
B7: Dolac market | C7: 6.30am-3pm Mon-Fri, to 2pm Sat, to 1pm Sun
B8: Lotrscak Tower
B9: St. Mark cathedral*
B10: Tkalciceva
B11: Cathedral of the Assumption (Cathedral of Zagreb)
B12: Mirogoj Cemetery | C12: นั่งรถเมล์สาย 106 จากฝั่งตรงข้ามCathedral of Zagreb
B13: Lower town (Donji grad) | C13: นั่งรถเมล์สาย 106 กลับมาลงที่เดิมแล้วเดินเล่น
B14: Vincek - Ilica | C14: ice cream
B15: ถ้ามีเวลาเหลือก็ไปสวน Zrinjevac
A17: 42112
A18: 0.4375 | B18: Airport
A19: 0.53819444 | B19: flight 12:55

Sheet plan for visa
A1: Travel itinerary: Italy - Croatia - Slovenia (4-18 April 2015)
A3: Day | B3: Date | C3: Time | D3: Program
A4: Sat | B4: 42098 | C4: 0.91319444 | D4: QR833 depart from BKK
C5: 0.98611111 | D5: Doha transit
C6: 0.03125 | D6: QR123 Depart from Doha
A7: Sun | B7: 42099 | D7: Milano - Manarola
C8: 0.25694444 | D8: Arrive Milano
D9: Deposit luggage at train station
C10: 0.33333333 | D10: Milano sightseeing
C11: Transport | D11: Train
C12: 0.50694444 | D12: Depart Milano by train
C13: 0.66319444 | D13: Arrive Manarola
C14: Hotel | D14: Hotel Ca D'Andrean
A15: Mon | B15: 42100 | D15: Cinque Terre - Firenze
C16: 0.33333333 | D16: Cinque Terre sight seeing
C17: Transport | D17: Train
C18: 0.59930556 | D18: Depart Manarola
C19: 0.71319444 | D19: Arrive Firenze
C20: Hotel | D20: B&B Residenza le Fonticine
A21: Tue | B21: 42101 | D21: Florence Sightseeing
C22: Hotel | D22: B&B Residenza le Fonticine
A23: Wed | B23: 42102 | D23: Florence - Rome
C24: 0.33333333 | D24: Florence Sightseeing
C25: Transport | D25: Train
C26: 0.58611111 | D26: Depart Firenze
C27: 0.64930556 | D27: Arrive Roma
C28: Hotel | D28: Vatican Monnalisa
A29: Thu | B29: 42103 | D29: Rome Sightseeing
C30: Hotel | D30: Vatican Monnalisa
A31: Fri | B31: 42104 | D31: Rome Sightseeing
C32: Hotel | D32: Vatican Monnalisa
A33: Sat | B33: 42105 | D33: Rome - Dubrovnik
C34: Transport | D34: Plane
C35: 0.41666667 | D35: VY6737 (10:00 FCO Rome)
C36: 0.46875 | D36: Arrive Dubrovnik
C37: 0.5 | D37: Dubrovnik sightseeing
C38: Hotel | D38: Apartments Zoro
A39: Sun | B39: 42106 | D39: Dubrovnik sightseeing
C40: Hotel | D40: Apartments Zoro
A41: Mon | B41: 42107 | D41: Dubrovnik - Split
...

Sheet Budget (real)
A1: Budget for trip
F2: exchange rate THB/EUR | H2: =K4 -> 37.155093 | J2: 20000 | K2: 38.1 | L2: =J2/K2 -> 524.93438
G3: THB | H3: Eur | J3: 40000 | K3: 36.7 | L3: =J3/K3 -> 1089.9183
F4: Total per head | G4: =G8/2 -> 83285.712 | H4: =H8/2 -> 2224.7629 | J4: =SUM(J2:J3) -> 60000 | K4: =J4/L4 -> 37.155093 | L4: =SUM(L2:L3) -> 1614.8526
F5: Paid | G5: =SUMIF($I$9:$I$36,$F$5,G9:G35)/2 -> 38296.851 | H5: =SUMIF($I$9:$I$36,$F$5,H9:H35)/2 -> 1013.9232 | J5: =SUM(J2:J4) -> 120000
F6: Remaining | G6: =G4-G5 -> 44988.861 | H6: =H4-H5 -> 1210.8397
A8: Total | G8: =SUM(G9:G61) -> 166571.42 | H8: =SUM(H9:H61) -> 4449.5258
A9: Air ticket | B9: BKK-Milan / Zagreb-BKK | G9: =29220*2 -> 58440 | H9: =G9/H2 -> 1572.8665 | I9: paid
A10: Accomodation
B11: City | C11: Hotel | D11: night | E11: per night
B12: Milan | C12: StarHotel Anderson | D12: 1 | E12: =H12/D12 -> 119.25 | G12: =H12*$H$2 -> 4430.7448 | H12: ='Hotel (real)'!H2 -> 119.25
B13: ='Hotel (real)'!B3 -> Manarola | C13: ='Hotel (real)'!C3 -> Hotel Ca D'Andrean | D13: 1 | E13: =H13/D13 -> 144 | G13: =H13*$H$2 -> 5350.3334 | H13: ='Hotel (real)'!H3 -> 144
B14: ='Hotel (real)'!B4 -> Florence | C14: ='Hotel (real)'!C4 -> B&B Residenza le Fonticine | D14: 2 | E14: =H14/D14 -> 95 | G14: =H14*$H$2 -> 7059.4677 | H14: ='Hotel (real)'!H4 -> 190
B15: ='Hotel (real)'!B6 -> Rome | C15: ='Hotel (real)'!C6 -> Vatican Monnalisa | D15: 3 | E15: =H15/D15 -> 89 | G15: =H15*39.9 -> 10653.3 | H15: ='Hotel (real)'!H6 -> 267 | I15: paid
B16: ='Hotel (real)'!B9 -> Dubrovnik | C16: ='Hotel (real)'!C9 -> Apartments Zoro | D16: 2 | E16: =H16/D16 -> 80 | G16: =H16*$H$2 -> 5944.8149 | H16: ='Hotel (real)'!H9 -> 160
B17: ='Hotel (real)'!B11 -> Split | C17: ='Hotel (real)'!C11 -> Luxury Rooms Lucija and Luka | D17: 2 | E17: =H17/D17 -> 99 | G17: =H17*$H$2 -> 7356.7084 | H17: ='Hotel (real)'!H11 -> 198
B18: ='Hotel (real)'!B13 -> Plitvice | C18: ='Hotel (real)'!C13 -> Hotel Jezero | D18: 1 | E18: =H18/D18 -> 86 | G18: =H18*$H$2 -> 3195.338 | H18: ='Hotel (real)'!H13 -> 86
B19: Zagreb | C19: ='Hotel (real)'!C14 -> Rooms Zagreb 17 | D19: 2 | E19: =H19/D19 -> 60 | G19: =H19*$H$2 -> 4458.6112 | H19: 120
K20: =1/7.65 -> 0.13071895
B21: From | C21: To | D21: Date | E21: Time | F21: (option) | J21: HRK | K21: 0.132 | L21: Euro
A22: Train | B22: Milan | C22: La Spezia | D22: 42099 | E22: 0.50694444 | G22: =H22*39.9 -> 718.2 | H22: 18 | I22: paid
A23: Train | B23: =C22 -> La Spezia | C23: Manarola | D23: 42099 | E23: 0.64375 | F23: 0.66388889 | G23: =H23*$H$2 -> 156.05139 | H23: =2.1*2 -> 4.2
A24: Train | B24: =C23 -> Manarola | C24: La Spezia | D24: 42100 | E24: 0.56111111 | F24: 0.51875 | G24: =H24*$H$2 -> 156.05139 | H24: =2.1*2 -> 4.2
A25: Train | B25: =C24 -> La Spezia | C25: Pisa | D25: 42100 | E25: 0.58055556 | G25: =H25*39.9 -> 877.8 | H25: 22 | I25: paid
A26: Train | B26: =C25 -> Pisa | C26: Florence | D26: 42100 | E26: 0.68888889 | F26: 0.70416667 | G26: =H26*$H$2 -> 594.48149 | H26: =8*2 -> 16
A27: Train | B27: =C26 -> Florence | C27: Rome | D27: 42102 | E27: 0.54444444 | G27: =H27*39.9 -> 1516.2 | H27: =38 -> 38 | I27: paid
A28: Plane | B28: =C27 -> Rome | C28: Dubrovnik | D28: 42105 | E28: 0.28819444 | G28: =H28*39.9 -> 4388.202 | H28: =109.98 -> 109.98 | I28: paid
A29: Bus | B29: =C28 -> Dubrovnik | C29: Split | D29: 42107 | G29: =H29*$H$2 -> 1206.5002 | H29: =J29*2*$K$21 -> 32.472 | J29: 123
A30: Bus | B30: =C29 -> Split | C30: Plitvice | D30: 42109 | G30: =H30*$H$2 -> 1628.2848 | H30: =J30*2*$K$21 -> 43.824 | J30: 166
A31: Bus | B31: =C30 -> Plitvice | C31: Zagreb | D31: 42110 | G31: =H31*$H$2 -> 971.08551 | H31: =J31*2*$K$21 -> 26.136 | J31: 99
A33: In-city transport | C33: Italy | F33: estimate | G33: =H33*H2 -> 5261.1612 | H33: =(Milan!D36+Manarola!C30+Florence!D24+Rome!D44)*2 -> 141.6
C34: Croatia
A35: Meal | F35: estimate | G35: =14*2.5*1000 -> 35000 | H35: =G35/$H$2 -> 941.99737
A36: Entrance Tickets | C36: Italy | F36: estimate | G36: =H36*H2 -> 7208.088 | H36: =(Milan!D37+Manarola!C31+Florence!D25+Rome!D45)*2 -> 194
C37: Croatia
